BEGIN:VCALENDAR
VERSION:2.0
PRODID:-//Riverfront Shops of Daytona Beach - ECPv6.15.20//NONSGML v1.0//EN
CALSCALE:GREGORIAN
METHOD:PUBLISH
X-WR-CALNAME:Riverfront Shops of Daytona Beach
X-ORIGINAL-URL:https://riverfrontshopsofdaytona.com
X-WR-CALDESC:Events for Riverfront Shops of Daytona Beach
REFRESH-INTERVAL;VALUE=DURATION:PT1H
X-Robots-Tag:noindex
X-PUBLISHED-TTL:PT1H
BEGIN:VTIMEZONE
TZID:America/New_York
BEGIN:DAYLIGHT
TZOFFSETFROM:-0500
TZOFFSETTO:-0400
TZNAME:EDT
DTSTART:20250309T070000
END:DAYLIGHT
BEGIN:STANDARD
TZOFFSETFROM:-0400
TZOFFSETTO:-0500
TZNAME:EST
DTSTART:20251102T060000
END:STANDARD
BEGIN:DAYLIGHT
TZOFFSETFROM:-0500
TZOFFSETTO:-0400
TZNAME:EDT
DTSTART:20260308T070000
END:DAYLIGHT
BEGIN:STANDARD
TZOFFSETFROM:-0400
TZOFFSETTO:-0500
TZNAME:EST
DTSTART:20261101T060000
END:STANDARD
BEGIN:DAYLIGHT
TZOFFSETFROM:-0500
TZOFFSETTO:-0400
TZNAME:EDT
DTSTART:20270314T070000
END:DAYLIGHT
BEGIN:STANDARD
TZOFFSETFROM:-0400
TZOFFSETTO:-0500
TZNAME:EST
DTSTART:20271107T060000
END:STANDARD
END:VTIMEZONE
BEGIN:VEVENT
DTSTART;TZID=America/New_York:20260425T130000
DTEND;TZID=America/New_York:20260425T170000
DTSTAMP:20260421T082828
CREATED:20260416T190138Z
LAST-MODIFIED:20260416T190234Z
UID:10001130-1777122000-1777136400@riverfrontshopsofdaytona.com
SUMMARY:Spring Wine Walk 2026
DESCRIPTION:Join us on Saturday\, April 25 from 1–5 PM for an afternoon of wine tastings\, light bites\, and live music as you explore a curated selection of local shops\, restaurants\, and galleries throughout the district. \nEnjoy a relaxed\, social atmosphere while sampling wines & various snacks at participating locations\, discovering unique businesses\, and soaking in the vibrant downtown scene. Whether you’re a wine enthusiast or just looking for a fun afternoon out\, the Wine Walk is the perfect way to experience the best of Downtown Daytona Beach. \nCheers to great wine\, great company\, and a great day downtown! \nTICKETS AVAILABLE NOW! \nTICKETS & INFO
URL:https://riverfrontshopsofdaytona.com/event/spring-wine-walk-2026/
LOCATION:Beach Street\, Daytona Beach\, 32114\, United States
CATEGORIES:Arts and Culture,Community,Food,Riverfront Shops Events
ATTACH;FMTTYPE=image/jpeg:https://riverfrontshopsofdaytona.com/wp-content/uploads/2026/04/APRIL-WINE-WALK-2026_Web.jpg
END:VEVENT
BEGIN:VEVENT
DTSTART;TZID=America/New_York:20260501T170000
DTEND;TZID=America/New_York:20260501T210000
DTSTAMP:20260421T082828
CREATED:20250903T193654Z
LAST-MODIFIED:20251223T191527Z
UID:10001028-1777654800-1777669200@riverfrontshopsofdaytona.com
SUMMARY:First Friday ArtWalk
DESCRIPTION:Attention art lovers! Downtown Daytona Beach invites you to stroll along Beach Street every first Friday of each month to enjoy “ArtWalk”! \nMeet artists and other art lovers for an evening of stimulating art\, fun\, and refreshments offered by the following galleries and purveyors of culture: \n\nAberrant Art Gallery – 118 N Beach St\nArlequin Antiques – 122 S Beach St\nBoho Society 71 – 222 S Beach St\nCinematique – 242 S Beach St\nEtrusca Gallery – 154 S Beach St\nGalerie Elan – 248 S Beach St\nGallery at Tic Toc – 166 S Beach St\nKale Cafe – 110 N Beach St\nSalon 230 – 116 Magnolia Ave\nStarry Night Gallery – 230 S Beach St\nThat Crystal Place – 226A S Beach St\nVJL Gallery – 170 N Beach St\nZanzibar Blu – 250 S Palmetto Ave
URL:https://riverfrontshopsofdaytona.com/event/artwalk-2026/2026-05-01/
LOCATION:Beach Street\, Daytona Beach\, 32114\, United States
CATEGORIES:Arts and Culture,Community,Merchant Events,Riverfront Shops Events
ATTACH;FMTTYPE=image/jpeg:https://riverfrontshopsofdaytona.com/wp-content/uploads/2025/09/DDA_FirstFridayArtwalk_2025_EventHEader.jpg
END:VEVENT
BEGIN:VEVENT
DTSTART;TZID=America/New_York:20260605T170000
DTEND;TZID=America/New_York:20260605T210000
DTSTAMP:20260421T082828
CREATED:20250903T193654Z
LAST-MODIFIED:20251223T191527Z
UID:10001029-1780678800-1780693200@riverfrontshopsofdaytona.com
SUMMARY:First Friday ArtWalk
DESCRIPTION:Attention art lovers! Downtown Daytona Beach invites you to stroll along Beach Street every first Friday of each month to enjoy “ArtWalk”! \nMeet artists and other art lovers for an evening of stimulating art\, fun\, and refreshments offered by the following galleries and purveyors of culture: \n\nAberrant Art Gallery – 118 N Beach St\nArlequin Antiques – 122 S Beach St\nBoho Society 71 – 222 S Beach St\nCinematique – 242 S Beach St\nEtrusca Gallery – 154 S Beach St\nGalerie Elan – 248 S Beach St\nGallery at Tic Toc – 166 S Beach St\nKale Cafe – 110 N Beach St\nSalon 230 – 116 Magnolia Ave\nStarry Night Gallery – 230 S Beach St\nThat Crystal Place – 226A S Beach St\nVJL Gallery – 170 N Beach St\nZanzibar Blu – 250 S Palmetto Ave
URL:https://riverfrontshopsofdaytona.com/event/artwalk-2026/2026-06-05/
LOCATION:Beach Street\, Daytona Beach\, 32114\, United States
CATEGORIES:Arts and Culture,Community,Merchant Events,Riverfront Shops Events
ATTACH;FMTTYPE=image/jpeg:https://riverfrontshopsofdaytona.com/wp-content/uploads/2025/09/DDA_FirstFridayArtwalk_2025_EventHEader.jpg
END:VEVENT
BEGIN:VEVENT
DTSTART;TZID=America/New_York:20260703T170000
DTEND;TZID=America/New_York:20260703T210000
DTSTAMP:20260421T082828
CREATED:20250903T193654Z
LAST-MODIFIED:20251223T191527Z
UID:10001073-1783098000-1783112400@riverfrontshopsofdaytona.com
SUMMARY:First Friday ArtWalk
DESCRIPTION:Attention art lovers! Downtown Daytona Beach invites you to stroll along Beach Street every first Friday of each month to enjoy “ArtWalk”! \nMeet artists and other art lovers for an evening of stimulating art\, fun\, and refreshments offered by the following galleries and purveyors of culture: \n\nAberrant Art Gallery – 118 N Beach St\nArlequin Antiques – 122 S Beach St\nBoho Society 71 – 222 S Beach St\nCinematique – 242 S Beach St\nEtrusca Gallery – 154 S Beach St\nGalerie Elan – 248 S Beach St\nGallery at Tic Toc – 166 S Beach St\nKale Cafe – 110 N Beach St\nSalon 230 – 116 Magnolia Ave\nStarry Night Gallery – 230 S Beach St\nThat Crystal Place – 226A S Beach St\nVJL Gallery – 170 N Beach St\nZanzibar Blu – 250 S Palmetto Ave
URL:https://riverfrontshopsofdaytona.com/event/artwalk-2026/2026-07-03/
LOCATION:Beach Street\, Daytona Beach\, 32114\, United States
CATEGORIES:Arts and Culture,Community,Merchant Events,Riverfront Shops Events
ATTACH;FMTTYPE=image/jpeg:https://riverfrontshopsofdaytona.com/wp-content/uploads/2025/09/DDA_FirstFridayArtwalk_2025_EventHEader.jpg
END:VEVENT
BEGIN:VEVENT
DTSTART;TZID=America/New_York:20260807T170000
DTEND;TZID=America/New_York:20260807T210000
DTSTAMP:20260421T082828
CREATED:20250903T193654Z
LAST-MODIFIED:20251223T191527Z
UID:10001074-1786122000-1786136400@riverfrontshopsofdaytona.com
SUMMARY:First Friday ArtWalk
DESCRIPTION:Attention art lovers! Downtown Daytona Beach invites you to stroll along Beach Street every first Friday of each month to enjoy “ArtWalk”! \nMeet artists and other art lovers for an evening of stimulating art\, fun\, and refreshments offered by the following galleries and purveyors of culture: \n\nAberrant Art Gallery – 118 N Beach St\nArlequin Antiques – 122 S Beach St\nBoho Society 71 – 222 S Beach St\nCinematique – 242 S Beach St\nEtrusca Gallery – 154 S Beach St\nGalerie Elan – 248 S Beach St\nGallery at Tic Toc – 166 S Beach St\nKale Cafe – 110 N Beach St\nSalon 230 – 116 Magnolia Ave\nStarry Night Gallery – 230 S Beach St\nThat Crystal Place – 226A S Beach St\nVJL Gallery – 170 N Beach St\nZanzibar Blu – 250 S Palmetto Ave
URL:https://riverfrontshopsofdaytona.com/event/artwalk-2026/2026-08-07/
LOCATION:Beach Street\, Daytona Beach\, 32114\, United States
CATEGORIES:Arts and Culture,Community,Merchant Events,Riverfront Shops Events
ATTACH;FMTTYPE=image/jpeg:https://riverfrontshopsofdaytona.com/wp-content/uploads/2025/09/DDA_FirstFridayArtwalk_2025_EventHEader.jpg
END:VEVENT
BEGIN:VEVENT
DTSTART;TZID=America/New_York:20260904T170000
DTEND;TZID=America/New_York:20260904T210000
DTSTAMP:20260421T082828
CREATED:20250903T193654Z
LAST-MODIFIED:20251223T191527Z
UID:10001075-1788541200-1788555600@riverfrontshopsofdaytona.com
SUMMARY:First Friday ArtWalk
DESCRIPTION:Attention art lovers! Downtown Daytona Beach invites you to stroll along Beach Street every first Friday of each month to enjoy “ArtWalk”! \nMeet artists and other art lovers for an evening of stimulating art\, fun\, and refreshments offered by the following galleries and purveyors of culture: \n\nAberrant Art Gallery – 118 N Beach St\nArlequin Antiques – 122 S Beach St\nBoho Society 71 – 222 S Beach St\nCinematique – 242 S Beach St\nEtrusca Gallery – 154 S Beach St\nGalerie Elan – 248 S Beach St\nGallery at Tic Toc – 166 S Beach St\nKale Cafe – 110 N Beach St\nSalon 230 – 116 Magnolia Ave\nStarry Night Gallery – 230 S Beach St\nThat Crystal Place – 226A S Beach St\nVJL Gallery – 170 N Beach St\nZanzibar Blu – 250 S Palmetto Ave
URL:https://riverfrontshopsofdaytona.com/event/artwalk-2026/2026-09-04/
LOCATION:Beach Street\, Daytona Beach\, 32114\, United States
CATEGORIES:Arts and Culture,Community,Merchant Events,Riverfront Shops Events
ATTACH;FMTTYPE=image/jpeg:https://riverfrontshopsofdaytona.com/wp-content/uploads/2025/09/DDA_FirstFridayArtwalk_2025_EventHEader.jpg
END:VEVENT
BEGIN:VEVENT
DTSTART;TZID=America/New_York:20261002T170000
DTEND;TZID=America/New_York:20261002T210000
DTSTAMP:20260421T082828
CREATED:20250903T193654Z
LAST-MODIFIED:20251223T191527Z
UID:10001076-1790960400-1790974800@riverfrontshopsofdaytona.com
SUMMARY:First Friday ArtWalk
DESCRIPTION:Attention art lovers! Downtown Daytona Beach invites you to stroll along Beach Street every first Friday of each month to enjoy “ArtWalk”! \nMeet artists and other art lovers for an evening of stimulating art\, fun\, and refreshments offered by the following galleries and purveyors of culture: \n\nAberrant Art Gallery – 118 N Beach St\nArlequin Antiques – 122 S Beach St\nBoho Society 71 – 222 S Beach St\nCinematique – 242 S Beach St\nEtrusca Gallery – 154 S Beach St\nGalerie Elan – 248 S Beach St\nGallery at Tic Toc – 166 S Beach St\nKale Cafe – 110 N Beach St\nSalon 230 – 116 Magnolia Ave\nStarry Night Gallery – 230 S Beach St\nThat Crystal Place – 226A S Beach St\nVJL Gallery – 170 N Beach St\nZanzibar Blu – 250 S Palmetto Ave
URL:https://riverfrontshopsofdaytona.com/event/artwalk-2026/2026-10-02/
LOCATION:Beach Street\, Daytona Beach\, 32114\, United States
CATEGORIES:Arts and Culture,Community,Merchant Events,Riverfront Shops Events
ATTACH;FMTTYPE=image/jpeg:https://riverfrontshopsofdaytona.com/wp-content/uploads/2025/09/DDA_FirstFridayArtwalk_2025_EventHEader.jpg
END:VEVENT
BEGIN:VEVENT
DTSTART;TZID=America/New_York:20261106T170000
DTEND;TZID=America/New_York:20261106T210000
DTSTAMP:20260421T082828
CREATED:20250903T193654Z
LAST-MODIFIED:20251223T191527Z
UID:10001077-1793984400-1793998800@riverfrontshopsofdaytona.com
SUMMARY:First Friday ArtWalk
DESCRIPTION:Attention art lovers! Downtown Daytona Beach invites you to stroll along Beach Street every first Friday of each month to enjoy “ArtWalk”! \nMeet artists and other art lovers for an evening of stimulating art\, fun\, and refreshments offered by the following galleries and purveyors of culture: \n\nAberrant Art Gallery – 118 N Beach St\nArlequin Antiques – 122 S Beach St\nBoho Society 71 – 222 S Beach St\nCinematique – 242 S Beach St\nEtrusca Gallery – 154 S Beach St\nGalerie Elan – 248 S Beach St\nGallery at Tic Toc – 166 S Beach St\nKale Cafe – 110 N Beach St\nSalon 230 – 116 Magnolia Ave\nStarry Night Gallery – 230 S Beach St\nThat Crystal Place – 226A S Beach St\nVJL Gallery – 170 N Beach St\nZanzibar Blu – 250 S Palmetto Ave
URL:https://riverfrontshopsofdaytona.com/event/artwalk-2026/2026-11-06/
LOCATION:Beach Street\, Daytona Beach\, 32114\, United States
CATEGORIES:Arts and Culture,Community,Merchant Events,Riverfront Shops Events
ATTACH;FMTTYPE=image/jpeg:https://riverfrontshopsofdaytona.com/wp-content/uploads/2025/09/DDA_FirstFridayArtwalk_2025_EventHEader.jpg
END:VEVENT
BEGIN:VEVENT
DTSTART;TZID=America/New_York:20261204T170000
DTEND;TZID=America/New_York:20261204T210000
DTSTAMP:20260421T082828
CREATED:20250903T193654Z
LAST-MODIFIED:20251223T191527Z
UID:10001078-1796403600-1796418000@riverfrontshopsofdaytona.com
SUMMARY:First Friday ArtWalk
DESCRIPTION:Attention art lovers! Downtown Daytona Beach invites you to stroll along Beach Street every first Friday of each month to enjoy “ArtWalk”! \nMeet artists and other art lovers for an evening of stimulating art\, fun\, and refreshments offered by the following galleries and purveyors of culture: \n\nAberrant Art Gallery – 118 N Beach St\nArlequin Antiques – 122 S Beach St\nBoho Society 71 – 222 S Beach St\nCinematique – 242 S Beach St\nEtrusca Gallery – 154 S Beach St\nGalerie Elan – 248 S Beach St\nGallery at Tic Toc – 166 S Beach St\nKale Cafe – 110 N Beach St\nSalon 230 – 116 Magnolia Ave\nStarry Night Gallery – 230 S Beach St\nThat Crystal Place – 226A S Beach St\nVJL Gallery – 170 N Beach St\nZanzibar Blu – 250 S Palmetto Ave
URL:https://riverfrontshopsofdaytona.com/event/artwalk-2026/2026-12-04/
LOCATION:Beach Street\, Daytona Beach\, 32114\, United States
CATEGORIES:Arts and Culture,Community,Merchant Events,Riverfront Shops Events
ATTACH;FMTTYPE=image/jpeg:https://riverfrontshopsofdaytona.com/wp-content/uploads/2025/09/DDA_FirstFridayArtwalk_2025_EventHEader.jpg
END:VEVENT
END:VCALENDAR