BEGIN:VCALENDAR
VERSION:2.0
PRODID:-//Riverfront Shops of Daytona Beach - ECPv6.15.20//NONSGML v1.0//EN
CALSCALE:GREGORIAN
METHOD:PUBLISH
X-ORIGINAL-URL:https://riverfrontshopsofdaytona.com
X-WR-CALDESC:Events for Riverfront Shops of Daytona Beach
REFRESH-INTERVAL;VALUE=DURATION:PT1H
X-Robots-Tag:noindex
X-PUBLISHED-TTL:PT1H
BEGIN:VTIMEZONE
TZID:America/New_York
BEGIN:DAYLIGHT
TZOFFSETFROM:-0500
TZOFFSETTO:-0400
TZNAME:EDT
DTSTART:20250309T070000
END:DAYLIGHT
BEGIN:STANDARD
TZOFFSETFROM:-0400
TZOFFSETTO:-0500
TZNAME:EST
DTSTART:20251102T060000
END:STANDARD
BEGIN:DAYLIGHT
TZOFFSETFROM:-0500
TZOFFSETTO:-0400
TZNAME:EDT
DTSTART:20260308T070000
END:DAYLIGHT
BEGIN:STANDARD
TZOFFSETFROM:-0400
TZOFFSETTO:-0500
TZNAME:EST
DTSTART:20261101T060000
END:STANDARD
BEGIN:DAYLIGHT
TZOFFSETFROM:-0500
TZOFFSETTO:-0400
TZNAME:EDT
DTSTART:20270314T070000
END:DAYLIGHT
BEGIN:STANDARD
TZOFFSETFROM:-0400
TZOFFSETTO:-0500
TZNAME:EST
DTSTART:20271107T060000
END:STANDARD
END:VTIMEZONE
BEGIN:VEVENT
DTSTART;TZID=America/New_York:20260425T130000
DTEND;TZID=America/New_York:20260425T170000
DTSTAMP:20260421T060952
CREATED:20260416T190138Z
LAST-MODIFIED:20260416T190234Z
UID:10001130-1777122000-1777136400@riverfrontshopsofdaytona.com
SUMMARY:Spring Wine Walk 2026
DESCRIPTION:Join us on Saturday\, April 25 from 1–5 PM for an afternoon of wine tastings\, light bites\, and live music as you explore a curated selection of local shops\, restaurants\, and galleries throughout the district. \nEnjoy a relaxed\, social atmosphere while sampling wines & various snacks at participating locations\, discovering unique businesses\, and soaking in the vibrant downtown scene. Whether you’re a wine enthusiast or just looking for a fun afternoon out\, the Wine Walk is the perfect way to experience the best of Downtown Daytona Beach. \nCheers to great wine\, great company\, and a great day downtown! \nTICKETS AVAILABLE NOW! \nTICKETS & INFO
URL:https://riverfrontshopsofdaytona.com/event/spring-wine-walk-2026/
LOCATION:Beach Street\, Daytona Beach\, 32114\, United States
CATEGORIES:Arts and Culture,Community,Food,Riverfront Shops Events
ATTACH;FMTTYPE=image/jpeg:https://riverfrontshopsofdaytona.com/wp-content/uploads/2026/04/APRIL-WINE-WALK-2026_Web.jpg
END:VEVENT
END:VCALENDAR