BEGIN:VCALENDAR
VERSION:2.0
PRODID:-//Riverfront Shops of Daytona Beach - ECPv6.15.20//NONSGML v1.0//EN
CALSCALE:GREGORIAN
METHOD:PUBLISH
X-ORIGINAL-URL:https://riverfrontshopsofdaytona.com
X-WR-CALDESC:Events for Riverfront Shops of Daytona Beach
REFRESH-INTERVAL;VALUE=DURATION:PT1H
X-Robots-Tag:noindex
X-PUBLISHED-TTL:PT1H
BEGIN:VTIMEZONE
TZID:America/New_York
BEGIN:DAYLIGHT
TZOFFSETFROM:-0500
TZOFFSETTO:-0400
TZNAME:EDT
DTSTART:20250309T070000
END:DAYLIGHT
BEGIN:STANDARD
TZOFFSETFROM:-0400
TZOFFSETTO:-0500
TZNAME:EST
DTSTART:20251102T060000
END:STANDARD
BEGIN:DAYLIGHT
TZOFFSETFROM:-0500
TZOFFSETTO:-0400
TZNAME:EDT
DTSTART:20260308T070000
END:DAYLIGHT
BEGIN:STANDARD
TZOFFSETFROM:-0400
TZOFFSETTO:-0500
TZNAME:EST
DTSTART:20261101T060000
END:STANDARD
BEGIN:DAYLIGHT
TZOFFSETFROM:-0500
TZOFFSETTO:-0400
TZNAME:EDT
DTSTART:20270314T070000
END:DAYLIGHT
BEGIN:STANDARD
TZOFFSETFROM:-0400
TZOFFSETTO:-0500
TZNAME:EST
DTSTART:20271107T060000
END:STANDARD
END:VTIMEZONE
BEGIN:VEVENT
DTSTART;TZID=America/New_York:20260206T170000
DTEND;TZID=America/New_York:20260206T210000
DTSTAMP:20260419T131501
CREATED:20251223T190920Z
LAST-MODIFIED:20251223T193709Z
UID:10001062-1770397200-1770411600@riverfrontshopsofdaytona.com
SUMMARY:Downtown Daytona Nights
DESCRIPTION:Join us for Downtown Daytona Nights\, where the streets come alive with music\, entertainment\, and community spirit. Experience the vibrant energy of Daytona Beach as we celebrate with food\, art\, and activities for all ages. \nDon’t miss out on the fun—Downtown Daytona Nights!
URL:https://riverfrontshopsofdaytona.com/event/downtown-daytona-nights-2026/2026-02-06/
LOCATION:Magnolia Avenue\, Magnolia Avenue\, Daytona Beach\, 32114\, United States
CATEGORIES:Arts and Culture,Community,Food,Music,Riverfront Shops Events
ATTACH;FMTTYPE=image/jpeg:https://riverfrontshopsofdaytona.com/wp-content/uploads/2025/12/DDN_2026_General_Website.jpg
GEO:29.209549;-81.020345
X-APPLE-STRUCTURED-LOCATION;VALUE=URI;X-ADDRESS=Magnolia Avenue Magnolia Avenue Daytona Beach 32114 United States;X-APPLE-RADIUS=500;X-TITLE=Magnolia Avenue:geo:-81.020345,29.209549
END:VEVENT
BEGIN:VEVENT
DTSTART;TZID=America/New_York:20260206T170000
DTEND;TZID=America/New_York:20260206T210000
DTSTAMP:20260419T131501
CREATED:20251223T193014Z
LAST-MODIFIED:20251223T210943Z
UID:10001079-1770397200-1770411600@riverfrontshopsofdaytona.com
SUMMARY:Riverfront Market
DESCRIPTION:Join Us At The Riverfront Market!\n\n\n\n\n\n\n\n\n\n\n\n\nDiscover the Riverfront Market at the Riverfront Esplanade\, where local farmers\, artisans\, and small businesses come together to offer fresh produce\, handmade goods\, and unique finds. Happening on select Fridays from 5–9pm and Sundays from 10am–3pm\, our market is the perfect place to shop local\, connect with the community\, and enjoy the vibrant spirit of downtown Daytona Beach. \n\n\n\n\nOur Friday Markets showcase local vendors and is paired up with the Downtown Daytona Nights Food Truck\, Live Music and Art Walk event from 5pm-9pm on select dates listed below throughout the year.
URL:https://riverfrontshopsofdaytona.com/event/riverfront-market-2026-friday/
LOCATION:Riverfront Market\, 179 S. Beach Street\, DAYTONA BEACH\, FL\, 32114\, United States
CATEGORIES:Arts and Culture,Community,Food,Merchant Events,Music,Riverfront Shops Events
ATTACH;FMTTYPE=image/jpeg:https://riverfrontshopsofdaytona.com/wp-content/uploads/2025/12/DDA_RiverfrontMarket_2026_5-9pm.jpg
END:VEVENT
BEGIN:VEVENT
DTSTART;TZID=America/New_York:20260222T100000
DTEND;TZID=America/New_York:20260222T150000
DTSTAMP:20260419T131501
CREATED:20251223T193458Z
LAST-MODIFIED:20251223T211207Z
UID:10001082-1771754400-1771772400@riverfrontshopsofdaytona.com
SUMMARY:Riverfront Market
DESCRIPTION:Join Us At The Riverfront Market!\n\n\n\n\n\n\n\n\nDiscover the Riverfront Market at the Riverfront Esplanade\, where local farmers\, artisans\, and small businesses come together to offer fresh produce\, handmade goods\, and unique finds. Happening on select Fridays from 5–9pm and Sundays from 10am–3pm\, our market is the perfect place to shop local\, connect with the community\, and enjoy the vibrant spirit of downtown Daytona Beach. \n\n\n\nOur Sunday Markets showcase local vendors and live music from 10am-3pm on select dates listed below throughout the year. Free yoga is also offered before the market at 9am in our Rose Garden (255 S. Beach St.) with Renew Yoga Studio – be sure to bring a yoga mat and water to attend.
URL:https://riverfrontshopsofdaytona.com/event/riverfront-market-2026-sunday/2026-02-22/
LOCATION:Riverfront Market\, 179 S. Beach Street\, DAYTONA BEACH\, FL\, 32114\, United States
CATEGORIES:Arts and Culture,Community,Food,Merchant Events,Music,Riverfront Shops Events
ATTACH;FMTTYPE=image/jpeg:https://riverfrontshopsofdaytona.com/wp-content/uploads/2025/12/DDA_RiverfrontMarket_2026_10am-3pm.jpg
END:VEVENT
END:VCALENDAR