BEGIN:VCALENDAR
VERSION:2.0
PRODID:-//Riverfront Shops of Daytona Beach - ECPv6.15.20//NONSGML v1.0//EN
CALSCALE:GREGORIAN
METHOD:PUBLISH
X-WR-CALNAME:Riverfront Shops of Daytona Beach
X-ORIGINAL-URL:https://riverfrontshopsofdaytona.com
X-WR-CALDESC:Events for Riverfront Shops of Daytona Beach
REFRESH-INTERVAL;VALUE=DURATION:PT1H
X-Robots-Tag:noindex
X-PUBLISHED-TTL:PT1H
BEGIN:VTIMEZONE
TZID:America/New_York
BEGIN:DAYLIGHT
TZOFFSETFROM:-0500
TZOFFSETTO:-0400
TZNAME:EDT
DTSTART:20240310T070000
END:DAYLIGHT
BEGIN:STANDARD
TZOFFSETFROM:-0400
TZOFFSETTO:-0500
TZNAME:EST
DTSTART:20241103T060000
END:STANDARD
BEGIN:DAYLIGHT
TZOFFSETFROM:-0500
TZOFFSETTO:-0400
TZNAME:EDT
DTSTART:20250309T070000
END:DAYLIGHT
BEGIN:STANDARD
TZOFFSETFROM:-0400
TZOFFSETTO:-0500
TZNAME:EST
DTSTART:20251102T060000
END:STANDARD
BEGIN:DAYLIGHT
TZOFFSETFROM:-0500
TZOFFSETTO:-0400
TZNAME:EDT
DTSTART:20260308T070000
END:DAYLIGHT
BEGIN:STANDARD
TZOFFSETFROM:-0400
TZOFFSETTO:-0500
TZNAME:EST
DTSTART:20261101T060000
END:STANDARD
END:VTIMEZONE
BEGIN:VEVENT
DTSTART;TZID=America/New_York:20251003T170000
DTEND;TZID=America/New_York:20251003T210000
DTSTAMP:20260419T163123
CREATED:20250328T001000Z
LAST-MODIFIED:20250328T001000Z
UID:10000980-1759510800-1759525200@riverfrontshopsofdaytona.com
SUMMARY:Riverfront Market
DESCRIPTION:Join us for the Riverfront Market at the Riverfront Esplanade! Sip\, Shop & Stroll with us at our next one on October 3rd from 5-9pm! Featuring local vendors\, music\, and FREE yoga with Renew Yoga Studio at 5:30pm in the Rose Garden! Be sure to bring your own mat and water! Mark your calendars and we can’t wait to see everyone there!
URL:https://riverfrontshopsofdaytona.com/event/riverfront-market-9/
LOCATION:Riverfront Market\, 179 S. Beach Street\, DAYTONA BEACH\, FL\, 32114\, United States
CATEGORIES:Arts and Culture,Community,Food,Merchant Events,Music,Riverfront Shops Events
ATTACH;FMTTYPE=image/jpeg:https://riverfrontshopsofdaytona.com/wp-content/uploads/2025/03/RiverfrontMarketEventBanner-Oct3-01.jpg
END:VEVENT
BEGIN:VEVENT
DTSTART;TZID=America/New_York:20251003T170000
DTEND;TZID=America/New_York:20251003T210000
DTSTAMP:20260419T163123
CREATED:20250528T233837Z
LAST-MODIFIED:20250912T013112Z
UID:10001041-1759510800-1759525200@riverfrontshopsofdaytona.com
SUMMARY:Downtown Daytona Nights
DESCRIPTION:Enjoy an exciting First Friday evening at Downtown Daytona Nights\, where the streets come alive with music\, fun\, and community spirit. The family-friendly event will feature the area’s top food trucks and the Riverfront Arts Market on Magnolia Avenue. Start your weekend right at Downtown Daytona Nights!
URL:https://riverfrontshopsofdaytona.com/event/downtown-daytona-nights-8/
LOCATION:Magnolia Avenue\, Magnolia Avenue\, Daytona Beach\, 32114\, United States
CATEGORIES:Arts and Culture,Community,Food,Music,Riverfront Shops Events
ATTACH;FMTTYPE=image/jpeg:https://riverfrontshopsofdaytona.com/wp-content/uploads/2025/01/DDN-25-26-1920x1080-1.jpeg
GEO:29.209549;-81.020345
X-APPLE-STRUCTURED-LOCATION;VALUE=URI;X-ADDRESS=Magnolia Avenue Magnolia Avenue Daytona Beach 32114 United States;X-APPLE-RADIUS=500;X-TITLE=Magnolia Avenue:geo:-81.020345,29.209549
END:VEVENT
BEGIN:VEVENT
DTSTART;TZID=America/New_York:20251019T100000
DTEND;TZID=America/New_York:20251019T150000
DTSTAMP:20260419T163123
CREATED:20250328T001234Z
LAST-MODIFIED:20250328T001234Z
UID:10000981-1760868000-1760886000@riverfrontshopsofdaytona.com
SUMMARY:Riverfront Market
DESCRIPTION:Join us for the Riverfront Market at the Riverfront Esplanade! Sip\, Shop & Stroll with us at our next one on October 19th from 10am-3pm! Featuring local vendors\, music\, and FREE yoga with Renew Yoga Studio at 9am in the Rose Garden! Be sure to bring your own mat and water! Mark your calendars and we can’t wait to see everyone there!
URL:https://riverfrontshopsofdaytona.com/event/riverfront-market-10/
LOCATION:Riverfront Market\, 179 S. Beach Street\, DAYTONA BEACH\, FL\, 32114\, United States
CATEGORIES:Arts and Culture,Community,Food,Merchant Events,Music,Riverfront Shops Events
ATTACH;FMTTYPE=image/jpeg:https://riverfrontshopsofdaytona.com/wp-content/uploads/2025/03/RiverfrontMarketEventBanner-Oct-01.jpg
END:VEVENT
END:VCALENDAR