BEGIN:VCALENDAR
VERSION:2.0
PRODID:-//Riverfront Shops of Daytona Beach - ECPv6.15.20//NONSGML v1.0//EN
CALSCALE:GREGORIAN
METHOD:PUBLISH
X-ORIGINAL-URL:https://riverfrontshopsofdaytona.com
X-WR-CALDESC:Events for Riverfront Shops of Daytona Beach
REFRESH-INTERVAL;VALUE=DURATION:PT1H
X-Robots-Tag:noindex
X-PUBLISHED-TTL:PT1H
BEGIN:VTIMEZONE
TZID:America/New_York
BEGIN:DAYLIGHT
TZOFFSETFROM:-0500
TZOFFSETTO:-0400
TZNAME:EDT
DTSTART:20240310T070000
END:DAYLIGHT
BEGIN:STANDARD
TZOFFSETFROM:-0400
TZOFFSETTO:-0500
TZNAME:EST
DTSTART:20241103T060000
END:STANDARD
BEGIN:DAYLIGHT
TZOFFSETFROM:-0500
TZOFFSETTO:-0400
TZNAME:EDT
DTSTART:20250309T070000
END:DAYLIGHT
BEGIN:STANDARD
TZOFFSETFROM:-0400
TZOFFSETTO:-0500
TZNAME:EST
DTSTART:20251102T060000
END:STANDARD
BEGIN:DAYLIGHT
TZOFFSETFROM:-0500
TZOFFSETTO:-0400
TZNAME:EDT
DTSTART:20260308T070000
END:DAYLIGHT
BEGIN:STANDARD
TZOFFSETFROM:-0400
TZOFFSETTO:-0500
TZNAME:EST
DTSTART:20261101T060000
END:STANDARD
END:VTIMEZONE
BEGIN:VEVENT
DTSTART;TZID=America/New_York:20251011T130000
DTEND;TZID=America/New_York:20251011T170000
DTSTAMP:20260420T162918
CREATED:20250912T004900Z
LAST-MODIFIED:20250912T004900Z
UID:10001031-1760187600-1760202000@riverfrontshopsofdaytona.com
SUMMARY:Sip & Treat Wine Walk
DESCRIPTION:Sip\, sample\, socialize and stroll! \nThe Sip & Treat Wine Walk is a great way to get together with friends and family to enjoy a beautiful fall Saturday afternoon in historic Downtown Daytona Beach. Sip\, sample treats\, socialize\, and stroll along Beach Street\, visiting participating locations\, savoring fine wines\, and indulging in sweet treats on Saturday\, October 11\, from 1 PM to 5 PM. \nJoin us for a fun-filled fall afternoon in beautiful downtown Daytona\, where you can experience the perfect blend of red and white wines\, sweet treats\, live music\, shopping\, and community. \nThe Sip & Treat Wine Walk will offer a unique atmosphere with live music\, an outdoor artisan market\, and exclusive specials from local businesses. Whether you’re looking for a relaxing afternoon with friends or an opportunity to explore the vibrant downtown scene\, the Sip & Treat Wine Walk promises a memorable experience for wine lovers and adventure seekers alike. \nThe Sip & Treat Wine Walk will have two check-in points (one on North Beach Street and one on South Beach Street)\, where attendees will receive their Spring Wine Walk Passport\, wine glass\, and 20 wine tickets. Plenty of free parking is available behind the Riverfront Shops. \nAdvance tickets are $27/person and can be purchased online through 11:30 PM on Friday\, October 10th. Tickets will also be available the day of the event at registration points for $32/person until sold out. For more information\, please visit the Downtown Daytona Signature Events Facebook page or website. \nParticipants must be 21 years or older; proper identification is required. This is a rain-or-shine event. \nAnother Distinctively Downtown Daytona Experience! The Sip & Treat Wine Walk is sponsored by Brown & Brown\, Downtown Development Authority\, Riverfront Shops of Daytona Beach\, and the City of Daytona Beach\, and produced by Al Smith Productions. \nDon’t miss out – join us and discover the charm of Downtown Daytona Beach\, one sip at a time! \nBUY YOUR TICKETS NOW AND AVOID EVENT SELL-OUT! \n  \nTICKETS & INFORMATION
URL:https://riverfrontshopsofdaytona.com/event/sip-treat-wine-walk/
LOCATION:Beach Street\, Daytona Beach\, 32114\, United States
CATEGORIES:Arts and Culture,Community,Food,Riverfront Shops Events
ATTACH;FMTTYPE=image/jpeg:https://riverfrontshopsofdaytona.com/wp-content/uploads/2025/09/Sip-Treat-1920x1080-1.jpeg
END:VEVENT
END:VCALENDAR