BEGIN:VCALENDAR
VERSION:2.0
PRODID:-//Riverfront Shops of Daytona Beach - ECPv6.15.20//NONSGML v1.0//EN
CALSCALE:GREGORIAN
METHOD:PUBLISH
X-WR-CALNAME:Riverfront Shops of Daytona Beach
X-ORIGINAL-URL:https://riverfrontshopsofdaytona.com
X-WR-CALDESC:Events for Riverfront Shops of Daytona Beach
REFRESH-INTERVAL;VALUE=DURATION:PT1H
X-Robots-Tag:noindex
X-PUBLISHED-TTL:PT1H
BEGIN:VTIMEZONE
TZID:America/New_York
BEGIN:DAYLIGHT
TZOFFSETFROM:-0500
TZOFFSETTO:-0400
TZNAME:EDT
DTSTART:20220313T070000
END:DAYLIGHT
BEGIN:STANDARD
TZOFFSETFROM:-0400
TZOFFSETTO:-0500
TZNAME:EST
DTSTART:20221106T060000
END:STANDARD
BEGIN:DAYLIGHT
TZOFFSETFROM:-0500
TZOFFSETTO:-0400
TZNAME:EDT
DTSTART:20230312T070000
END:DAYLIGHT
BEGIN:STANDARD
TZOFFSETFROM:-0400
TZOFFSETTO:-0500
TZNAME:EST
DTSTART:20231105T060000
END:STANDARD
BEGIN:DAYLIGHT
TZOFFSETFROM:-0500
TZOFFSETTO:-0400
TZNAME:EDT
DTSTART:20240310T070000
END:DAYLIGHT
BEGIN:STANDARD
TZOFFSETFROM:-0400
TZOFFSETTO:-0500
TZNAME:EST
DTSTART:20241103T060000
END:STANDARD
END:VTIMEZONE
BEGIN:VEVENT
DTSTART;TZID=America/New_York:20230901T170000
DTEND;TZID=America/New_York:20230901T210000
DTSTAMP:20260421T111103
CREATED:20230207T184523Z
LAST-MODIFIED:20240925T162417Z
UID:10000387-1693587600-1693602000@riverfrontshopsofdaytona.com
SUMMARY:First Friday ArtWalk
DESCRIPTION:Attention art lovers! Downtown Daytona Beach invites you to stroll along Beach Street every first Friday of each month to enjoy “ArtWalk”! Meet artists and other art lovers for an evening of stimulating art\, fun\, and refreshments offered by the following galleries and purveyors of culture: \n\nAberrant Art Gallery: 118 N Beach St.\nBOHO Society 71 – Riverside Market: 222 S Beach St.\nCinematique: 242 S. Beach St.\nEtrusca Gallery: 146 S Beach St.\nGalerie Elan: 230 S Beach St.\nHalifax Historical Museum: 252 S Beach St.\nMacker Seafood: 141 Bay St.\nMadeline’s Wine Bar: 200 N Beach St.\nSalon 230/Spa Above and Hatfield’s Hideaway: 116 Magnolia Ave.\nVJL Art Gallery: 170 N Beach St.
URL:https://riverfrontshopsofdaytona.com/event/first-friday-artwalk/2023-09-01/
LOCATION:Beach Street\, Daytona Beach\, 32114\, United States
CATEGORIES:Arts and Culture,Community,Merchant Events,Riverfront Shops Events
ATTACH;FMTTYPE=image/jpeg:https://riverfrontshopsofdaytona.com/wp-content/uploads/2023/02/DDA_FirstFridayAetWalk_2023.jpg
END:VEVENT
BEGIN:VEVENT
DTSTART;TZID=America/New_York:20230901T170000
DTEND;TZID=America/New_York:20230901T210000
DTSTAMP:20260421T111103
CREATED:20230504T175917Z
LAST-MODIFIED:20230814T151444Z
UID:10000491-1693587600-1693602000@riverfrontshopsofdaytona.com
SUMMARY:Food Truck Rally
DESCRIPTION:Don’t miss the area’s best food trucks\, music\, and more at our next Downtown Daytona Nights events! Plenty of free parking is available for these family-friendly celebrations.
URL:https://riverfrontshopsofdaytona.com/event/food-truck-rally-6/2023-09-01/
LOCATION:Magnolia Avenue\, Magnolia Avenue\, Daytona Beach\, 32114\, United States
CATEGORIES:Arts and Culture,Community,Food,Music,Riverfront Shops Events
ATTACH;FMTTYPE=image/jpeg:https://riverfrontshopsofdaytona.com/wp-content/uploads/2023/05/DDN-1920x1005-1.jpg
GEO:29.209549;-81.020345
X-APPLE-STRUCTURED-LOCATION;VALUE=URI;X-ADDRESS=Magnolia Avenue Magnolia Avenue Daytona Beach 32114 United States;X-APPLE-RADIUS=500;X-TITLE=Magnolia Avenue:geo:-81.020345,29.209549
END:VEVENT
BEGIN:VEVENT
DTSTART;TZID=America/New_York:20230930T070000
DTEND;TZID=America/New_York:20230930T120000
DTSTAMP:20260421T111103
CREATED:20230901T005751Z
LAST-MODIFIED:20230901T005751Z
UID:10000494-1696057200-1696075200@riverfrontshopsofdaytona.com
SUMMARY:Brown & Brown “A Run For Success” 5K
DESCRIPTION:The Brown & Brown “A Run for Success” 5K for the Boys & Girls Club is back and better than ever.  Brown & Brown Insurance returns as the title sponsor of the “Run for Success” 5K in 2023 and will move the race to their front yard at the Riverfront Esplanade on Beach Street.  The Riverfront Esplanade presents a beautiful course layout along the river. The Brown & Brown “Run for Success” 5k is a great race for all runner levels. \nThe race is chip-timed with age group awards post race. \nFinisher beer will be offered for 21+ runners. \nLace up your shoes and come out to support the Boys & Girls Clubs! \n  \nREGISTER TODAY
URL:https://riverfrontshopsofdaytona.com/event/brown-brown-a-run-for-success-5k/
LOCATION:Riverfont Esplanade\, 355 N Beach St.\, Daytona Beach\, FL\, 32114\, United States
CATEGORIES:Community,Fundraiser,Riverfront Esplanade,Sports
ATTACH;FMTTYPE=image/jpeg:https://riverfrontshopsofdaytona.com/wp-content/uploads/2023/08/DDA_Esplanade_SuccessEvents_September.jpg
END:VEVENT
END:VCALENDAR