BEGIN:VCALENDAR
VERSION:2.0
PRODID:-//Riverfront Shops of Daytona Beach - ECPv6.15.20//NONSGML v1.0//EN
CALSCALE:GREGORIAN
METHOD:PUBLISH
X-WR-CALNAME:Riverfront Shops of Daytona Beach
X-ORIGINAL-URL:https://riverfrontshopsofdaytona.com
X-WR-CALDESC:Events for Riverfront Shops of Daytona Beach
REFRESH-INTERVAL;VALUE=DURATION:PT1H
X-Robots-Tag:noindex
X-PUBLISHED-TTL:PT1H
BEGIN:VTIMEZONE
TZID:America/New_York
BEGIN:DAYLIGHT
TZOFFSETFROM:-0500
TZOFFSETTO:-0400
TZNAME:EDT
DTSTART:20230312T070000
END:DAYLIGHT
BEGIN:STANDARD
TZOFFSETFROM:-0400
TZOFFSETTO:-0500
TZNAME:EST
DTSTART:20231105T060000
END:STANDARD
BEGIN:DAYLIGHT
TZOFFSETFROM:-0500
TZOFFSETTO:-0400
TZNAME:EDT
DTSTART:20240310T070000
END:DAYLIGHT
BEGIN:STANDARD
TZOFFSETFROM:-0400
TZOFFSETTO:-0500
TZNAME:EST
DTSTART:20241103T060000
END:STANDARD
BEGIN:DAYLIGHT
TZOFFSETFROM:-0500
TZOFFSETTO:-0400
TZNAME:EDT
DTSTART:20250309T070000
END:DAYLIGHT
BEGIN:STANDARD
TZOFFSETFROM:-0400
TZOFFSETTO:-0500
TZNAME:EST
DTSTART:20251102T060000
END:STANDARD
END:VTIMEZONE
BEGIN:VEVENT
DTSTART;TZID=America/New_York:20240504T140000
DTEND;TZID=America/New_York:20240504T220000
DTSTAMP:20260421T142021
CREATED:20240422T221505Z
LAST-MODIFIED:20240422T221647Z
UID:10000663-1714831200-1714860000@riverfrontshopsofdaytona.com
SUMMARY:Almost Cinco de Mayo Street Party 2024
DESCRIPTION:You read that correctly – the Cinco de Mayo fiesta is happening on Saturday\, May 4th\, right here in the heart of Downtown Daytona Beach! Join us for a fantastic celebration featuring traditional Mexican cuisine\, refreshing drinks\, and vibrant music that’ll transport you straight to Mexico. It’s a Street Party you won’t want to miss\, so mark your calendars and get ready to savor the flavors and rhythms of Cinco de Mayo with us! \n  \nLEARN MORE
URL:https://riverfrontshopsofdaytona.com/event/almost-cinco-de-mayo-street-party-2024/
LOCATION:Beach Street\, Daytona Beach\, 32114\, United States
CATEGORIES:Community,Food,Merchant Events,Music
ATTACH;FMTTYPE=image/jpeg:https://riverfrontshopsofdaytona.com/wp-content/uploads/2024/04/Cinco-de-Mayo-24-2160x1080-1.jpg
END:VEVENT
END:VCALENDAR