BEGIN:VCALENDAR
VERSION:2.0
PRODID:-//Riverfront Shops of Daytona Beach - ECPv6.15.20//NONSGML v1.0//EN
CALSCALE:GREGORIAN
METHOD:PUBLISH
X-WR-CALNAME:Riverfront Shops of Daytona Beach
X-ORIGINAL-URL:https://riverfrontshopsofdaytona.com
X-WR-CALDESC:Events for Riverfront Shops of Daytona Beach
REFRESH-INTERVAL;VALUE=DURATION:PT1H
X-Robots-Tag:noindex
X-PUBLISHED-TTL:PT1H
BEGIN:VTIMEZONE
TZID:America/New_York
BEGIN:DAYLIGHT
TZOFFSETFROM:-0500
TZOFFSETTO:-0400
TZNAME:EDT
DTSTART:20220313T070000
END:DAYLIGHT
BEGIN:STANDARD
TZOFFSETFROM:-0400
TZOFFSETTO:-0500
TZNAME:EST
DTSTART:20221106T060000
END:STANDARD
BEGIN:DAYLIGHT
TZOFFSETFROM:-0500
TZOFFSETTO:-0400
TZNAME:EDT
DTSTART:20230312T070000
END:DAYLIGHT
BEGIN:STANDARD
TZOFFSETFROM:-0400
TZOFFSETTO:-0500
TZNAME:EST
DTSTART:20231105T060000
END:STANDARD
BEGIN:DAYLIGHT
TZOFFSETFROM:-0500
TZOFFSETTO:-0400
TZNAME:EDT
DTSTART:20240310T070000
END:DAYLIGHT
BEGIN:STANDARD
TZOFFSETFROM:-0400
TZOFFSETTO:-0500
TZNAME:EST
DTSTART:20241103T060000
END:STANDARD
END:VTIMEZONE
BEGIN:VEVENT
DTSTART;TZID=America/New_York:20231216T173000
DTEND;TZID=America/New_York:20231216T193000
DTSTAMP:20260419T162238
CREATED:20231120T234851Z
LAST-MODIFIED:20231120T235521Z
UID:10000613-1702747800-1702755000@riverfrontshopsofdaytona.com
SUMMARY:A December to Remember — Holiday Walk/Run with The Running Elements
DESCRIPTION:This is an untimed\, fun run or walk. This is an out and back route along the holiday lights path. Route distance is about 1 mile. \nStart/Finish will take place in the North Lawn. Spectators (non-registered guests) may enjoy the views and cheer from the North Lawn. \nRegistration includes access into The Running Elements Holiday Celebration (start/finish area) in the North Lawn from 5:00-6:30pm. Limited to the first 500 registrations. Party includes music\, commemorative bib and professional photography. Each registration is also entered into the random door prize drawings from TRE brands (*no purchase necessary.) \nThis is an untimed\, fun run or walk. This is an out and back route along the holiday lights path. Route distance is about 1 mile. \nRegistration is FREE. Pre-Registration is REQUIRED! Capacity is limited. \n  \nSIGN UP
URL:https://riverfrontshopsofdaytona.com/event/a-december-to-remember-holiday-walk-run-with-the-running-elements/
LOCATION:Riverfont Esplanade\, 355 N Beach St.\, Daytona Beach\, FL\, 32114\, United States
CATEGORIES:Community,Holiday Events,Riverfront Esplanade
ATTACH;FMTTYPE=image/jpeg:https://riverfrontshopsofdaytona.com/wp-content/uploads/2023/11/ADTRHolidayRunEventBanner-01.jpg
END:VEVENT
BEGIN:VEVENT
DTSTART;TZID=America/New_York:20231216T180000
DTEND;TZID=America/New_York:20231216T180000
DTSTAMP:20260419T162238
CREATED:20221122T201339Z
LAST-MODIFIED:20231120T231011Z
UID:10000287-1702749600-1702749600@riverfrontshopsofdaytona.com
SUMMARY:Christmas Boat Parade
DESCRIPTION:The annual Daytona Beach Christmas Boat Parade will feature brilliant lit boats the evening of Saturday\, Dec. 16. Come view this beloved annual tradition along the riverfront in historic Downtown Daytona Beach! \nThe Daytona Beach Christmas Boat Parade is an annual community event on the Halifax River organized\, presented\, and hosted by the Halifax River Yacht Club. \nFor more information about the event\, visit https://hryc.com/christmas-boat-parade.
URL:https://riverfrontshopsofdaytona.com/event/christmas-boat-parade/
LOCATION:Beach Street\, Daytona Beach\, 32114\, United States
CATEGORIES:Community,Holiday Events
ATTACH;FMTTYPE=image/jpeg:https://riverfrontshopsofdaytona.com/wp-content/uploads/2019/10/DDA_ChristmasBoatParade2019.jpg
END:VEVENT
BEGIN:VEVENT
DTSTART;TZID=America/New_York:20231216T180000
DTEND;TZID=America/New_York:20231216T210000
DTSTAMP:20260419T162238
CREATED:20231120T233718Z
LAST-MODIFIED:20231120T233718Z
UID:10000568-1702749600-1702760400@riverfrontshopsofdaytona.com
SUMMARY:A December to Remember — Holiday Bazaar
DESCRIPTION:Support local\, small businesses while shopping at our ‘Holiday Bazaar’ during ‘A December to Remember at the Riverfront Esplanade! \n  \nLEARN MORE
URL:https://riverfrontshopsofdaytona.com/event/a-december-to-remember-holiday-bazaar-2/2023-12-16/
LOCATION:Riverfont Esplanade\, 355 N Beach St.\, Daytona Beach\, FL\, 32114\, United States
CATEGORIES:Community,Holiday Events,Riverfront Esplanade
ATTACH;FMTTYPE=image/jpeg:https://riverfrontshopsofdaytona.com/wp-content/uploads/2023/11/DDA_Esplanade_HolidayBazaar_2023_WEB.jpg
END:VEVENT
END:VCALENDAR