BEGIN:VCALENDAR
VERSION:2.0
PRODID:-//Riverfront Shops of Daytona Beach - ECPv6.15.20//NONSGML v1.0//EN
CALSCALE:GREGORIAN
METHOD:PUBLISH
X-WR-CALNAME:Riverfront Shops of Daytona Beach
X-ORIGINAL-URL:https://riverfrontshopsofdaytona.com
X-WR-CALDESC:Events for Riverfront Shops of Daytona Beach
REFRESH-INTERVAL;VALUE=DURATION:PT1H
X-Robots-Tag:noindex
X-PUBLISHED-TTL:PT1H
BEGIN:VTIMEZONE
TZID:America/New_York
BEGIN:DAYLIGHT
TZOFFSETFROM:-0500
TZOFFSETTO:-0400
TZNAME:EDT
DTSTART:20210314T070000
END:DAYLIGHT
BEGIN:STANDARD
TZOFFSETFROM:-0400
TZOFFSETTO:-0500
TZNAME:EST
DTSTART:20211107T060000
END:STANDARD
BEGIN:DAYLIGHT
TZOFFSETFROM:-0500
TZOFFSETTO:-0400
TZNAME:EDT
DTSTART:20220313T070000
END:DAYLIGHT
BEGIN:STANDARD
TZOFFSETFROM:-0400
TZOFFSETTO:-0500
TZNAME:EST
DTSTART:20221106T060000
END:STANDARD
BEGIN:DAYLIGHT
TZOFFSETFROM:-0500
TZOFFSETTO:-0400
TZNAME:EDT
DTSTART:20230312T070000
END:DAYLIGHT
BEGIN:STANDARD
TZOFFSETFROM:-0400
TZOFFSETTO:-0500
TZNAME:EST
DTSTART:20231105T060000
END:STANDARD
END:VTIMEZONE
BEGIN:VEVENT
DTSTART;TZID=America/New_York:20221126T130000
DTEND;TZID=America/New_York:20221126T170000
DTSTAMP:20260421T111813
CREATED:20221020T180717Z
LAST-MODIFIED:20221020T180751Z
UID:10000231-1669467600-1669482000@riverfrontshopsofdaytona.com
SUMMARY:Sip & Shop Wine Walk
DESCRIPTION:Savor fine wine and find the perfect gift from everyone on your list as you “Shop Small” in Downtown Daytona Beach! Advance tickets are available now for November’s Sip & Shop Wine Walk\, which will feature wine samples served by participating merchants\, live entertainment\, and arts and crafts vendors. Visit Eventbrite to purchase tickets online and learn more. \n  \nLEARN MORE
URL:https://riverfrontshopsofdaytona.com/event/sip-shop-wine-walk/
LOCATION:Beach Street\, Daytona Beach\, 32114\, United States
CATEGORIES:Arts and Culture,Food,Riverfront Shops Events
ATTACH;FMTTYPE=image/jpeg:https://riverfrontshopsofdaytona.com/wp-content/uploads/2022/10/Shop-and-Sip-2160x1080-1.jpg
END:VEVENT
END:VCALENDAR